BEGIN:VCALENDAR
VERSION:2.0
PRODID:-//PMFC - ECPv4.2.2//NONSGML v1.0//EN
CALSCALE:GREGORIAN
METHOD:PUBLISH
X-WR-CALNAME:PMFC
X-ORIGINAL-URL:https://pmfc.hu
X-WR-CALDESC:Events for PMFC
BEGIN:VEVENT
DTSTART;TZID=Europe/Budapest:20200826T190000
DTEND;TZID=Europe/Budapest:20200826T190000
DTSTAMP:20260426T014904
CREATED:20200724T125110
LAST-MODIFIED:20200826T113418
UID:14981-1598468400-1598468400@pmfc.hu
SUMMARY:Aqvital FC Csákvár - PMFC
DESCRIPTION:
URL:https://pmfc.hu/events/aqvital-csakvar-fc-pmfc/
END:VEVENT
END:VCALENDAR