BEGIN:VCALENDAR
VERSION:2.0
PRODID:-//PMFC - ECPv4.2.2//NONSGML v1.0//EN
CALSCALE:GREGORIAN
METHOD:PUBLISH
X-WR-CALNAME:PMFC
X-ORIGINAL-URL:https://pmfc.hu
X-WR-CALDESC:Events for PMFC
BEGIN:VEVENT
DTSTART;TZID=Europe/Budapest:20211027T180000
DTEND;TZID=Europe/Budapest:20211027T180000
DTSTAMP:20260420T181147
CREATED:20211002T104624
LAST-MODIFIED:20211002T104624
UID:19228-1635357600-1635357600@pmfc.hu
SUMMARY:Aqvital FC Csákvár - PMFC
DESCRIPTION:
URL:https://pmfc.hu/events/aqvital-fc-csakvar-pmfc/
END:VEVENT
END:VCALENDAR