BEGIN:VCALENDAR
VERSION:2.0
PRODID:-//PMFC - ECPv4.2.2//NONSGML v1.0//EN
CALSCALE:GREGORIAN
METHOD:PUBLISH
X-WR-CALNAME:PMFC
X-ORIGINAL-URL:https://pmfc.hu
X-WR-CALDESC:Events for PMFC
BEGIN:VEVENT
DTSTART;TZID=Europe/Budapest:20210919T150000
DTEND;TZID=Europe/Budapest:20210919T150000
DTSTAMP:20260420T165717
CREATED:20210907T061439
LAST-MODIFIED:20210907T061439
UID:18945-1632063600-1632063600@pmfc.hu
SUMMARY:Bonyhád VLC - PMFC
DESCRIPTION:
URL:https://pmfc.hu/events/bonyhad-vlc-pmfc/
END:VEVENT
END:VCALENDAR