BEGIN:VCALENDAR
VERSION:2.0
PRODID:-//PMFC - ECPv4.2.2//NONSGML v1.0//EN
CALSCALE:GREGORIAN
METHOD:PUBLISH
X-WR-CALNAME:PMFC
X-ORIGINAL-URL:https://pmfc.hu
X-WR-CALDESC:Events for PMFC
BEGIN:VEVENT
DTSTART;TZID=Europe/Budapest:20210307T143000
DTEND;TZID=Europe/Budapest:20210307T143000
DTSTAMP:20260420T041623
CREATED:20210103T124803
LAST-MODIFIED:20210113T095341
UID:16596-1615127400-1615127400@pmfc.hu
SUMMARY:Budaörs - PMFC
DESCRIPTION:
URL:https://pmfc.hu/events/budaors-pmfc/
END:VEVENT
END:VCALENDAR