BEGIN:VCALENDAR
VERSION:2.0
PRODID:-//PMFC - ECPv4.2.2//NONSGML v1.0//EN
CALSCALE:GREGORIAN
METHOD:PUBLISH
X-WR-CALNAME:PMFC
X-ORIGINAL-URL:https://pmfc.hu
X-WR-CALDESC:Events for PMFC
BEGIN:VEVENT
DTSTART;TZID=Europe/Budapest:20210829T150000
DTEND;TZID=Europe/Budapest:20210829T150000
DTSTAMP:20260420T190553
CREATED:20210701T063459
LAST-MODIFIED:20210726T132119
UID:18443-1630249200-1630249200@pmfc.hu
SUMMARY:DVTK - PMFC
DESCRIPTION:
URL:https://pmfc.hu/events/dvtk-pmfc/
END:VEVENT
END:VCALENDAR