BEGIN:VCALENDAR
VERSION:2.0
PRODID:-//PMFC - ECPv4.2.2//NONSGML v1.0//EN
CALSCALE:GREGORIAN
METHOD:PUBLISH
X-WR-CALNAME:PMFC
X-ORIGINAL-URL:https://pmfc.hu
X-WR-CALDESC:Events for PMFC
BEGIN:VEVENT
DTSTART;TZID=Europe/Budapest:20210929T180000
DTEND;TZID=Europe/Budapest:20210929T180000
DTSTAMP:20260420T170056
CREATED:20210701T063716
LAST-MODIFIED:20210825T110606
UID:18447-1632938400-1632938400@pmfc.hu
SUMMARY:Kecskeméti TE - PMFC
DESCRIPTION:
URL:https://pmfc.hu/events/kecskemeti-te-pmfc-2/
END:VEVENT
END:VCALENDAR