BEGIN:VCALENDAR
VERSION:2.0
PRODID:-//PMFC - ECPv4.2.2//NONSGML v1.0//EN
CALSCALE:GREGORIAN
METHOD:PUBLISH
X-WR-CALNAME:PMFC
X-ORIGINAL-URL:https://pmfc.hu
X-WR-CALDESC:Events for PMFC
BEGIN:VEVENT
DTSTART;TZID=Europe/Budapest:20200802T190000
DTEND;TZID=Europe/Budapest:20200802T190000
DTSTAMP:20260425T003459
CREATED:20200721T063010
LAST-MODIFIED:20200721T063010
UID:14949-1596394800-1596394800@pmfc.hu
SUMMARY:PMFC - Dorogi FC
DESCRIPTION:
URL:https://pmfc.hu/events/pmfc-dorogi-fc/
END:VEVENT
END:VCALENDAR