BEGIN:VCALENDAR
VERSION:2.0
PRODID:-//PMFC - ECPv4.2.2//NONSGML v1.0//EN
CALSCALE:GREGORIAN
METHOD:PUBLISH
X-WR-CALNAME:PMFC
X-ORIGINAL-URL:https://pmfc.hu
X-WR-CALDESC:Events for PMFC
BEGIN:VEVENT
DTSTART;TZID=Europe/Budapest:20210314T124500
DTEND;TZID=Europe/Budapest:20210314T124500
DTSTAMP:20260420T055504
CREATED:20210103T124834
LAST-MODIFIED:20210202T075823
UID:16597-1615725900-1615725900@pmfc.hu
SUMMARY:PMFC - DVSC
DESCRIPTION:
URL:https://pmfc.hu/events/pmfc-dvsc/
END:VEVENT
END:VCALENDAR