BEGIN:VCALENDAR
VERSION:2.0
PRODID:-//PMFC - ECPv4.2.2//NONSGML v1.0//EN
CALSCALE:GREGORIAN
METHOD:PUBLISH
X-WR-CALNAME:PMFC
X-ORIGINAL-URL:https://pmfc.hu
X-WR-CALDESC:Events for PMFC
BEGIN:VEVENT
DTSTART;TZID=Europe/Budapest:20211003T170000
DTEND;TZID=Europe/Budapest:20211003T170000
DTSTAMP:20260424T093106
CREATED:20210701T063938
LAST-MODIFIED:20210825T110940
UID:18448-1633280400-1633280400@pmfc.hu
SUMMARY:PMFC - Szolnoki MÁV FC
DESCRIPTION:
URL:https://pmfc.hu/events/pmfc-szolnoki-mav-fc-2/
END:VEVENT
END:VCALENDAR