BEGIN:VCALENDAR
VERSION:2.0
PRODID:-//PMFC - ECPv4.2.2//NONSGML v1.0//EN
CALSCALE:GREGORIAN
METHOD:PUBLISH
X-WR-CALNAME:PMFC
X-ORIGINAL-URL:https://pmfc.hu
X-WR-CALDESC:Events for PMFC
BEGIN:VEVENT
DTSTART;TZID=Europe/Budapest:20210303T143000
DTEND;TZID=Europe/Budapest:20210303T143000
DTSTAMP:20260420T022746
CREATED:20210103T124732
LAST-MODIFIED:20210113T095254
UID:16595-1614781800-1614781800@pmfc.hu
SUMMARY:PMFC - Szombathelyi Haladás
DESCRIPTION:
URL:https://pmfc.hu/events/pmfc-szombathelyi-haladas/
END:VEVENT
END:VCALENDAR