BEGIN:VCALENDAR
VERSION:2.0
PRODID:-//PMFC - ECPv4.2.2//NONSGML v1.0//EN
CALSCALE:GREGORIAN
METHOD:PUBLISH
X-WR-CALNAME:PMFC
X-ORIGINAL-URL:https://pmfc.hu
X-WR-CALDESC:Events for PMFC
BEGIN:VEVENT
DTSTART;TZID=Europe/Budapest:20210808T173000
DTEND;TZID=Europe/Budapest:20210808T173000
DTSTAMP:20260420T190506
CREATED:20210701T063214
LAST-MODIFIED:20210714T110334
UID:18439-1628443800-1628443800@pmfc.hu
SUMMARY:Szentlőrinc - PMFC
DESCRIPTION:
URL:https://pmfc.hu/events/szentlorinc-pmfc-3/
END:VEVENT
END:VCALENDAR